BEGIN:VCALENDAR
VERSION:2.0
PRODID:-//Delaware Coalition for Open Government - ECPv6.15.20//NONSGML v1.0//EN
CALSCALE:GREGORIAN
METHOD:PUBLISH
X-WR-CALNAME:Delaware Coalition for Open Government
X-ORIGINAL-URL:https://www.delcog.org
X-WR-CALDESC:Events for Delaware Coalition for Open Government
REFRESH-INTERVAL;VALUE=DURATION:PT1H
X-Robots-Tag:noindex
X-PUBLISHED-TTL:PT1H
BEGIN:VTIMEZONE
TZID:America/New_York
BEGIN:DAYLIGHT
TZOFFSETFROM:-0500
TZOFFSETTO:-0400
TZNAME:EDT
DTSTART:20240310T070000
END:DAYLIGHT
BEGIN:STANDARD
TZOFFSETFROM:-0400
TZOFFSETTO:-0500
TZNAME:EST
DTSTART:20241103T060000
END:STANDARD
BEGIN:DAYLIGHT
TZOFFSETFROM:-0500
TZOFFSETTO:-0400
TZNAME:EDT
DTSTART:20250309T070000
END:DAYLIGHT
BEGIN:STANDARD
TZOFFSETFROM:-0400
TZOFFSETTO:-0500
TZNAME:EST
DTSTART:20251102T060000
END:STANDARD
BEGIN:DAYLIGHT
TZOFFSETFROM:-0500
TZOFFSETTO:-0400
TZNAME:EDT
DTSTART:20260308T070000
END:DAYLIGHT
BEGIN:STANDARD
TZOFFSETFROM:-0400
TZOFFSETTO:-0500
TZNAME:EST
DTSTART:20261101T060000
END:STANDARD
BEGIN:DAYLIGHT
TZOFFSETFROM:-0500
TZOFFSETTO:-0400
TZNAME:EDT
DTSTART:20270314T070000
END:DAYLIGHT
BEGIN:STANDARD
TZOFFSETFROM:-0400
TZOFFSETTO:-0500
TZNAME:EST
DTSTART:20271107T060000
END:STANDARD
END:VTIMEZONE
BEGIN:VEVENT
DTSTART;TZID=America/New_York:20260114T183000
DTEND;TZID=America/New_York:20260114T193000
DTSTAMP:20260421T164939
CREATED:20260221T233052Z
LAST-MODIFIED:20260221T233052Z
UID:8544-1768415400-1768419000@www.delcog.org
SUMMARY:DelCOG Sunshine Week Committee Meeting
DESCRIPTION:Delaware Coalition for Open Government \nSunshine Week Committee Meeting\nJanuary 14\, 2026\n6:30 p.m. – 7:30 p.m.
URL:https://www.delcog.org/event/delcog-sunshine-week-committee-meeting/
LOCATION:Zoom
CATEGORIES:Committee Meeting
END:VEVENT
BEGIN:VEVENT
DTSTART;TZID=America/New_York:20260105T190000
DTEND;TZID=America/New_York:20260105T193000
DTSTAMP:20260421T164939
CREATED:20260221T232805Z
LAST-MODIFIED:20260221T233059Z
UID:8542-1767639600-1767641400@www.delcog.org
SUMMARY:DelCOG Sunshine Week Committee Meeting
DESCRIPTION:Delaware Coalition for Open Government \nSunshine Week Committee Meeting\nJanuary 5\, 2026\n7:00 p.m. – 7:30 p.m.
URL:https://www.delcog.org/event/delcog-sunshine-week-committee-meeting-2026-01-05/
LOCATION:Zoom
CATEGORIES:Committee Meeting
END:VEVENT
BEGIN:VEVENT
DTSTART;TZID=America/New_York:20260105T183000
DTEND;TZID=America/New_York:20260105T190000
DTSTAMP:20260421T164939
CREATED:20260102T055619Z
LAST-MODIFIED:20260221T232734Z
UID:8366-1767637800-1767639600@www.delcog.org
SUMMARY:DelCOG Data Center Committee Meeting
DESCRIPTION:Delaware Coalition for Open Government \nData Center Committee Meeting\nJanuary 5\, 2026\n6:30 p.m. – 7:30 p.m.
URL:https://www.delcog.org/event/delcog-data-center-committee-meeting-2026-01-05/
LOCATION:Zoom
CATEGORIES:Committee Meeting
END:VEVENT
BEGIN:VEVENT
DTSTART;TZID=America/New_York:20251222T183000
DTEND;TZID=America/New_York:20251222T193000
DTSTAMP:20260421T164939
CREATED:20260102T055956Z
LAST-MODIFIED:20260102T060034Z
UID:8367-1766428200-1766431800@www.delcog.org
SUMMARY:DelCOG Data Center Committee Meeting
DESCRIPTION:Delaware Coalition for Open Government \nData Center Committee Meeting\nDecember 22\, 2025\n6:30 p.m. – 7:30 p.m.
URL:https://www.delcog.org/event/delcog-data-center-committee-meeting-2025-12-22/
LOCATION:Zoom
CATEGORIES:Committee Meeting
END:VEVENT
BEGIN:VEVENT
DTSTART;TZID=America/New_York:20251201T183000
DTEND;TZID=America/New_York:20251201T193000
DTSTAMP:20260421T164939
CREATED:20260222T213315Z
LAST-MODIFIED:20260222T213428Z
UID:8562-1764613800-1764617400@www.delcog.org
SUMMARY:DelCOG Data Center Committee Meeting
DESCRIPTION:Delaware Coalition for Open Government \nData Center Committee Meeting\nDecember 1\, 2025\n6:30 p.m. – 7:30 p.m.
URL:https://www.delcog.org/event/delcog-data-center-committee-meeting-2025-12-01/
LOCATION:Zoom
CATEGORIES:Committee Meeting
END:VEVENT
BEGIN:VEVENT
DTSTART;TZID=America/New_York:20251110T183000
DTEND;TZID=America/New_York:20251110T193000
DTSTAMP:20260421T164939
CREATED:20251104T033745Z
LAST-MODIFIED:20260222T213404Z
UID:8032-1762799400-1762803000@www.delcog.org
SUMMARY:DelCOG Data Center Committee Meeting
DESCRIPTION:Delaware Coalition for Open Government \nData Center Committee Meeting\nNovember 10\, 2025\n6:30 p.m. – 7:30 p.m.
URL:https://www.delcog.org/event/delcog-data-center-committee-meeting-2025-11-10/
LOCATION:Zoom
CATEGORIES:Committee Meeting
END:VEVENT
BEGIN:VEVENT
DTSTART;TZID=America/New_York:20251028T183000
DTEND;TZID=America/New_York:20251028T190000
DTSTAMP:20260421T164939
CREATED:20251106T204807Z
LAST-MODIFIED:20251106T204858Z
UID:8049-1761676200-1761678000@www.delcog.org
SUMMARY:DelCOG Annual Meeting Committee Meeting
DESCRIPTION:Delaware Coalition for Open Government \nAnnual Meeting Committee Meeting\nOctober 28\, 2025\n6:30 p.m. – 7:00 p.m.
URL:https://www.delcog.org/event/delcog-annual-meeting-committee-meeting-2025-10-28/
LOCATION:Zoom
CATEGORIES:Committee Meeting
END:VEVENT
BEGIN:VEVENT
DTSTART;TZID=America/New_York:20251013T183000
DTEND;TZID=America/New_York:20251013T193000
DTSTAMP:20260421T164939
CREATED:20251013T024908Z
LAST-MODIFIED:20251104T034009Z
UID:7887-1760380200-1760383800@www.delcog.org
SUMMARY:DelCOG Data Center Committee Meeting
DESCRIPTION:Delaware Coalition for Open Government \nData Center Committee Meeting\nOctober 13\, 2025\n6:30 p.m. – 7:30 p.m.\n  \nAgenda\n  \nUpdate on Recent Activities Related to Data Center Issue\n\nUpcoming Public Service Commission Hearing—Oct. 15\nDebrief on Oct. 7 Hearing of NCC Draft Ordinance on Data Centers\nEnergy Stakeholders Mtg.\, Governor’s Energy Advisory Council (10/10)\nHave You Attended Any Mtgs\, etc.?\n\nDiscussion of Allies and Potential Allies\n\nUpdate on Discussions with Allies\nDiscussion About Allies and Potential Allies\n\nLining up support\nWho do you know?\n\n\n\nNext Steps\n\nNailing down major issues related to Data Centers\, including\n\nWhat are pros and cons—key points\, Pros outweigh Cons?\nNot against all data centers\, just ones that don’t clearly benefit DE\nMajor concern about fast rising electricity rates\nMajor concerns about harm to health and environment—State\, Counties need to start including DHSS rep in meetings on D/C proposals\n\n\nGetting word out to public about data center\n\nLTEs\, other messaging to public… and DE and local politicians\nMeetings with allies\, their members\nWhat else?\n\n\n\nNext Meeting\nAdjourn\n  \nZoom Meeting Information\nTopic: DelCOG Committee Meeting \nTime: 6:30 PM Eastern Time (US and Canada) \nJoin Zoom Meeting \nhttps://us02web.zoom.us/j/88257167631?pwd=gYcgMSx3pwkoC1OaAXQD19bnvGKV6m.1 \nMeeting ID: 882 5716 7631 \nPasscode: 513100 \n— \nOne tap mobile \n+13017158592\,\,88257167631#\,\,\,\,*513100# US (Washington DC) \n+16469313860\,\,88257167631#\,\,\,\,*513100# US \n— \nDial by your location \n\n +1 301 715 8592 US (Washington DC)\n +1 646 931 3860 US\n +1 305 224 1968 US\n +1 309 205 3325 US\n +1 312 626 6799 US (Chicago)\n +1 646 558 8656 US (New York)\n +1 507 473 4847 US\n +1 564 217 2000 US\n +1 669 444 9171 US\n +1 669 900 9128 US (San Jose)\n +1 689 278 1000 US\n +1 719 359 4580 US\n +1 253 205 0468 US\n +1 253 215 8782 US (Tacoma)\n +1 346 248 7799 US (Houston)\n +1 360 209 5623 US\n +1 386 347 5053 US\n\nMeeting ID: 882 5716 7631 \nPasscode: 513100 \nFind your local number: https://us02web.zoom.us/u/kAIEG8Wg7 \n 
URL:https://www.delcog.org/event/delcog-data-center-committee-meeting-2025-10-13/
LOCATION:Zoom
CATEGORIES:Committee Meeting
END:VEVENT
BEGIN:VEVENT
DTSTART;TZID=America/New_York:20250930T183000
DTEND;TZID=America/New_York:20250930T190000
DTSTAMP:20260421T164939
CREATED:20250924T023700Z
LAST-MODIFIED:20251017T024033Z
UID:7873-1759257000-1759258800@www.delcog.org
SUMMARY:DelCOG Bylaws Committee Meeting
DESCRIPTION:Delaware Coalition for Open Government \nBylaws Committee Meeting\nSeptember 30\, 2025\n6:30 p.m. – 7:00 p.m.
URL:https://www.delcog.org/event/delcog-bylaws-committee-meeting-2025-09-30/
LOCATION:Zoom
CATEGORIES:Committee Meeting
END:VEVENT
BEGIN:VEVENT
DTSTART;TZID=America/New_York:20250929T183000
DTEND;TZID=America/New_York:20250929T193000
DTSTAMP:20260421T164939
CREATED:20251003T044310Z
LAST-MODIFIED:20251104T033922Z
UID:7781-1759170600-1759174200@www.delcog.org
SUMMARY:DelCOG Data Center Committee Meeting
DESCRIPTION:Delaware Coalition for Open Government \nData Center Committee Meeting\nSeptember 29\, 2025\n6:30 p.m. – 7:30 p.m.\n  \n  \nZoom Meeting Information\nTopic: DelCOG Committee Meeting \nTime: 6:30 PM Eastern Time (US and Canada) \nJoin Zoom Meeting \nhttps://us02web.zoom.us/j/88257167631?pwd=gYcgMSx3pwkoC1OaAXQD19bnvGKV6m.1 \nMeeting ID: 882 5716 7631 \nPasscode: 513100 \n— \nOne tap mobile \n+13017158592\,\,88257167631#\,\,\,\,*513100# US (Washington DC) \n+16469313860\,\,88257167631#\,\,\,\,*513100# US \n— \nDial by your location \n\n +1 301 715 8592 US (Washington DC)\n +1 646 931 3860 US\n +1 305 224 1968 US\n +1 309 205 3325 US\n +1 312 626 6799 US (Chicago)\n +1 646 558 8656 US (New York)\n +1 507 473 4847 US\n +1 564 217 2000 US\n +1 669 444 9171 US\n +1 669 900 9128 US (San Jose)\n +1 689 278 1000 US\n +1 719 359 4580 US\n +1 253 205 0468 US\n +1 253 215 8782 US (Tacoma)\n +1 346 248 7799 US (Houston)\n +1 360 209 5623 US\n +1 386 347 5053 US\n\nMeeting ID: 882 5716 7631 \nPasscode: 513100 \nFind your local number: https://us02web.zoom.us/u/kAIEG8Wg7 \n 
URL:https://www.delcog.org/event/delcog-data-center-committee-meeting-2025-09-29/
LOCATION:Zoom
CATEGORIES:Committee Meeting
END:VEVENT
BEGIN:VEVENT
DTSTART;TZID=America/New_York:20250923T190000
DTEND;TZID=America/New_York:20250923T193000
DTSTAMP:20260421T164939
CREATED:20250903T022120Z
LAST-MODIFIED:20251017T024746Z
UID:7864-1758654000-1758655800@www.delcog.org
SUMMARY:DelCOG Nominating Committee Meeting
DESCRIPTION:Delaware Coalition for Open Government \nNominating Committee Meeting\nSeptember 23\, 2025\n7:00 p.m. – 7:30 p.m.
URL:https://www.delcog.org/event/delcog-nominating-committee-meeting-2025-09-23/
LOCATION:Zoom
CATEGORIES:Committee Meeting
END:VEVENT
BEGIN:VEVENT
DTSTART;TZID=America/New_York:20250923T183000
DTEND;TZID=America/New_York:20250923T190000
DTSTAMP:20260421T164939
CREATED:20250903T021859Z
LAST-MODIFIED:20251017T024049Z
UID:7860-1758652200-1758654000@www.delcog.org
SUMMARY:DelCOG Bylaws Committee Meeting
DESCRIPTION:Delaware Coalition for Open Government \nBylaws Committee Meeting\nSeptember 23\, 2025\n6:30 p.m. – 7:00 p.m.
URL:https://www.delcog.org/event/delcog-bylaws-committee-meeting-2025-09-23/
LOCATION:Zoom
CATEGORIES:Committee Meeting
END:VEVENT
BEGIN:VEVENT
DTSTART;TZID=America/New_York:20250923T181500
DTEND;TZID=America/New_York:20250923T193000
DTSTAMP:20260421T164939
CREATED:20250903T022102Z
LAST-MODIFIED:20251017T024112Z
UID:7862-1758651300-1758655800@www.delcog.org
SUMMARY:DelCOG Annual Meeting Committee Meeting
DESCRIPTION:Delaware Coalition for Open Government \nAnnual Meeting Committee Meeting\nSeptember 23\, 2025\n6:15 p.m. – 6:30 p.m.
URL:https://www.delcog.org/event/delcog-annual-meeting-committee-meeting-2025-09-23/
LOCATION:Zoom
CATEGORIES:Committee Meeting
END:VEVENT
BEGIN:VEVENT
DTSTART;TZID=America/New_York:20250902T193000
DTEND;TZID=America/New_York:20250902T200000
DTSTAMP:20260421T164939
CREATED:20250902T022105Z
LAST-MODIFIED:20251017T024621Z
UID:7863-1756841400-1756843200@www.delcog.org
SUMMARY:DelCOG Nominating Committee Meeting
DESCRIPTION:Delaware Coalition for Open Government \nNominating Committee Meeting\nSeptember 2\, 2025\n7:30 p.m. – 8:00 p.m.
URL:https://www.delcog.org/event/delcog-nominating-committee-meeting-2025-09-02/
LOCATION:Zoom
CATEGORIES:Committee Meeting
END:VEVENT
BEGIN:VEVENT
DTSTART;TZID=America/New_York:20250902T183000
DTEND;TZID=America/New_York:20250902T190000
DTSTAMP:20260421T164939
CREATED:20250902T021449Z
LAST-MODIFIED:20251017T024058Z
UID:7858-1756837800-1756839600@www.delcog.org
SUMMARY:DelCOG Bylaws Committee Meeting
DESCRIPTION:Delaware Coalition for Open Government \n Bylaws Committee Meeting\nSeptember 2\, 2025\n6:30 p.m. – 7:00 p.m.
URL:https://www.delcog.org/event/delcog-bylaws-committee-meeting-2025-09-02/
LOCATION:Zoom
CATEGORIES:Committee Meeting
END:VEVENT
BEGIN:VEVENT
DTSTART;TZID=America/New_York:20250902T073000
DTEND;TZID=America/New_York:20250902T200000
DTSTAMP:20260421T164939
CREATED:20250902T021905Z
LAST-MODIFIED:20251017T024102Z
UID:7861-1756798200-1756843200@www.delcog.org
SUMMARY:DelCOG Annual Meeting Committee Meeting
DESCRIPTION:Delaware Coalition for Open Government \nAnnual Meeting Committee Meeting\nSeptember 2\, 2025\n7:30 p.m. – 8:00 p.m.
URL:https://www.delcog.org/event/delcog-annual-meeting-committee-meeting-2025-09-02/
LOCATION:Zoom
CATEGORIES:Committee Meeting
END:VEVENT
BEGIN:VEVENT
DTSTART;TZID=America/New_York:20250825T183000
DTEND;TZID=America/New_York:20250825T193000
DTSTAMP:20260421T164939
CREATED:20250825T023900Z
LAST-MODIFIED:20251017T024140Z
UID:7875-1756146600-1756150200@www.delcog.org
SUMMARY:DelCOG Annual Meeting Committee Meeting
DESCRIPTION:Delaware Coalition for Open Government \nAnnual Meeting Committee Meeting\nAugust 25\, 2025\n6:30 p.m. – 7:30 p.m.
URL:https://www.delcog.org/event/delcog-annual-meeting-committee-meeting-2025-08-25/
LOCATION:Zoom
CATEGORIES:Committee Meeting
END:VEVENT
BEGIN:VEVENT
DTSTART;TZID=America/New_York:20250818T193000
DTEND;TZID=America/New_York:20250818T200000
DTSTAMP:20260421T164939
CREATED:20250817T024246Z
LAST-MODIFIED:20251017T025758Z
UID:7879-1755545400-1755547200@www.delcog.org
SUMMARY:DelCOG Annual Meeting Committee Meeting
DESCRIPTION:Delaware Coalition for Open Government \nAnnual Meeting Committee Meeting\nAugust 18\, 2025\n7:30 p.m. – 8:30 p.m.
URL:https://www.delcog.org/event/delcog-annual-meeting-committee-meeting-2025-08-18/
LOCATION:Zoom
CATEGORIES:Committee Meeting
END:VEVENT
BEGIN:VEVENT
DTSTART;TZID=America/New_York:20250818T190000
DTEND;TZID=America/New_York:20250818T193000
DTSTAMP:20260421T164939
CREATED:20250817T024243Z
LAST-MODIFIED:20251017T024615Z
UID:7878-1755543600-1755545400@www.delcog.org
SUMMARY:DelCOG Nominating Committee Meeting
DESCRIPTION:Delaware Coalition for Open Government \nNominating Committee Meeting\nAugust 18\, 2025\n7:00 p.m. – 7:30 p.m.
URL:https://www.delcog.org/event/delcog-nominating-committee-meeting-2025-08-18/
LOCATION:Zoom
CATEGORIES:Committee Meeting
END:VEVENT
BEGIN:VEVENT
DTSTART;TZID=America/New_York:20250818T183000
DTEND;TZID=America/New_York:20250818T190000
DTSTAMP:20260421T164939
CREATED:20250817T024240Z
LAST-MODIFIED:20251017T024413Z
UID:7877-1755541800-1755543600@www.delcog.org
SUMMARY:DelCOG Bylaws Committee Meeting
DESCRIPTION:Delaware Coalition for Open Government \n Bylaws Committee Meeting\nAugust 18\, 2025\n6:30 p.m. – 7:00 p.m.
URL:https://www.delcog.org/event/delcog-bylaws-committee-meeting-2025-08-18/
LOCATION:Zoom
CATEGORIES:Committee Meeting
END:VEVENT
END:VCALENDAR